BEGIN:VCALENDAR
VERSION:2.0
PRODID:hinto.net
X-PUBLISHED-TTL:P1W
BEGIN:VEVENT
UID:hinto.net-event_show-6933641
DTSTART:20260611T200000
SEQUENCE:0
CREATED:20260422T052534
LAST-MODIFIED:20260422T052534
TRANSP:OPAQUE
DTEND:20260611T205000
LOCATION:Silo 2
SUMMARY:Another
CLASS:PUBLIC
DESCRIPTION:
ORGANIZER:
DTSTAMP:20260423T081252
ATTACH:https://www.hinto.ch/de/events/another-11-06-2026-2000-silo-2-basel-e2854568-20.html
END:VEVENT
END:VCALENDAR
