BEGIN:VCALENDAR
VERSION:2.0
PRODID:hinto.net
X-PUBLISHED-TTL:P1W
BEGIN:VEVENT
UID:hinto.net-event_show-6485136
DTSTART:20260626T193000
SEQUENCE:0
CREATED:20251129T033413
LAST-MODIFIED:20251129T033413
TRANSP:OPAQUE

LOCATION:Theater am Hechtplatz
SUMMARY:Ass-Dur
CLASS:PUBLIC
DESCRIPTION:
ORGANIZER:
DTSTAMP:20260424T145523
ATTACH:https://www.hinto.ch/de/events/ass-dur-26-06-2026-1930-theater-am-hechtplatz-zuerich-e2479633-20.html
END:VEVENT
END:VCALENDAR
