BEGIN:VCALENDAR
VERSION:2.0
PRODID:hinto.net
X-PUBLISHED-TTL:P1W
BEGIN:VEVENT
UID:hinto.net-event_show-6418364
DTSTART:20270406T140000
SEQUENCE:0
CREATED:20251106T082448
LAST-MODIFIED:20251106T082448
TRANSP:OPAQUE
DTEND:20270406T170000
LOCATION:Museum Burghalde
SUMMARY:Auf den Spuren von Clara Müller
CLASS:PUBLIC
DESCRIPTION:
ORGANIZER:
DTSTAMP:20260424T165031
ATTACH:https://www.hinto.ch/de/events/auf-den-spuren-von-clara-mueller-06-04-2027-1400-museum-burghalde-lenzburg-e2420604-20.html
END:VEVENT
END:VCALENDAR
