BEGIN:VCALENDAR
VERSION:2.0
PRODID:hinto.net
X-PUBLISHED-TTL:P1W
BEGIN:VEVENT
UID:hinto.net-event_show-1135763
DTSTART:20200608T000000
SEQUENCE:0
CREATED:20240826T232928
LAST-MODIFIED:20240826T232928
TRANSP:OPAQUE
DTEND:20991231T000000
LOCATION:Haus Clüs 29
SUMMARY:Ausstellung in der Scheune
CLASS:PUBLIC
DESCRIPTION:
ORGANIZER:
DTSTAMP:20260424T165227
ATTACH:https://www.hinto.ch/de/events/ausstellung-in-der-scheune-08-06-2020-0000-haus-clues-29-tschierv-e68768-20.html
END:VEVENT
END:VCALENDAR
