BEGIN:VCALENDAR
VERSION:2.0
PRODID:hinto.net
X-PUBLISHED-TTL:P1W
BEGIN:VEVENT
UID:hinto.net-event_show-6814903
DTSTART:20260417T170000
SEQUENCE:0
CREATED:20260314T035901
LAST-MODIFIED:20260314T035901
TRANSP:OPAQUE
DTEND:20260417T210000
LOCATION:Numas Igra, Atelier & Showroom
SUMMARY:Basel Based: Vernissage
CLASS:PUBLIC
DESCRIPTION:
ORGANIZER:
DTSTAMP:20260420T021327
ATTACH:https://www.hinto.ch/de/events/basel-based-vernissage-17-04-2026-1700-numas-igra-atelier-showroom-basel-e2753094-20.html
END:VEVENT
END:VCALENDAR
