BEGIN:VCALENDAR
VERSION:2.0
PRODID:hinto.net
X-PUBLISHED-TTL:P1W
BEGIN:VEVENT
UID:hinto.net-event_show-6826120
DTSTART:20260417T190000
SEQUENCE:0
CREATED:20260318T050156
LAST-MODIFIED:20260318T050156
TRANSP:OPAQUE

LOCATION:Quartiertreffpunkt LoLa
SUMMARY:Belo-Mir Konzert
CLASS:PUBLIC
DESCRIPTION:
ORGANIZER:
DTSTAMP:20260420T204434
ATTACH:https://www.hinto.ch/de/events/belo-mir-konzert-17-04-2026-1900-quartiertreffpunkt-lola-basel-e2762539-20.html
END:VEVENT
END:VCALENDAR
