BEGIN:VCALENDAR
VERSION:2.0
PRODID:hinto.net
X-PUBLISHED-TTL:P1W
BEGIN:VEVENT
UID:hinto.net-event_show-6915549
DTSTART:20260927T113000
SEQUENCE:0
CREATED:20260416T040528
LAST-MODIFIED:20260416T040528
TRANSP:OPAQUE
DTEND:20260927T000000
LOCATION:Bernhard Theater
SUMMARY:Bernhard Matinée
CLASS:PUBLIC
DESCRIPTION:
ORGANIZER:
DTSTAMP:20260424T095200
ATTACH:https://www.hinto.ch/de/events/bernhard-matinee-27-09-2026-1130-bernhard-theater-zuerich-e1967094-20.html
END:VEVENT
END:VCALENDAR
