BEGIN:VCALENDAR
VERSION:2.0
PRODID:hinto.net
X-PUBLISHED-TTL:P1W
BEGIN:VEVENT
UID:hinto.net-event_show-5153000
DTSTART:20271102T100000
SEQUENCE:0
CREATED:20241102T090621
LAST-MODIFIED:20241102T090621
TRANSP:OPAQUE
DTEND:20271102T170000
LOCATION:Museum Luzern
SUMMARY:Blickwinkel-Kabinett
CLASS:PUBLIC
DESCRIPTION:
ORGANIZER:
DTSTAMP:20260424T063627
ATTACH:https://www.hinto.ch/de/events/blickwinkel-kabinett-02-11-2027-1000-museum-luzern-luzern-e280769-20.html
END:VEVENT
END:VCALENDAR
