BEGIN:VCALENDAR
VERSION:2.0
PRODID:hinto.net
X-PUBLISHED-TTL:P1W
BEGIN:VEVENT
UID:hinto.net-event_show-5014939
DTSTART:20271006T100000
SEQUENCE:0
CREATED:20241006T055634
LAST-MODIFIED:20241006T055634
TRANSP:OPAQUE
DTEND:20271006T170000
LOCATION:Museum Luzern
SUMMARY:Blickwinkel-Kabinett
CLASS:PUBLIC
DESCRIPTION:
ORGANIZER:
DTSTAMP:20260421T091446
ATTACH:https://www.hinto.ch/de/events/blickwinkel-kabinett-06-10-2027-1000-museum-luzern-luzern-e280769-20.html
END:VEVENT
END:VCALENDAR
