BEGIN:VCALENDAR
VERSION:2.0
PRODID:hinto.net
X-PUBLISHED-TTL:P1W
BEGIN:VEVENT
UID:hinto.net-event_show-4928876
DTSTART:20270918T100000
SEQUENCE:0
CREATED:20240918T081023
LAST-MODIFIED:20240918T081023
TRANSP:OPAQUE
DTEND:20270918T170000
LOCATION:Museum Luzern
SUMMARY:Blickwinkel-Kabinett
CLASS:PUBLIC
DESCRIPTION:
ORGANIZER:
DTSTAMP:20260424T152306
ATTACH:https://www.hinto.ch/de/events/blickwinkel-kabinett-18-09-2027-1000-museum-luzern-luzern-e280769-20.html
END:VEVENT
END:VCALENDAR
