BEGIN:VCALENDAR
VERSION:2.0
PRODID:hinto.net
X-PUBLISHED-TTL:P1W
BEGIN:VEVENT
UID:hinto.net-event_show-4937770
DTSTART:20270919T100000
SEQUENCE:0
CREATED:20240919T055839
LAST-MODIFIED:20240919T055839
TRANSP:OPAQUE
DTEND:20270919T170000
LOCATION:Museum Luzern
SUMMARY:Blickwinkel-Kabinett
CLASS:PUBLIC
DESCRIPTION:
ORGANIZER:
DTSTAMP:20260424T055026
ATTACH:https://www.hinto.ch/de/events/blickwinkel-kabinett-19-09-2027-1000-museum-luzern-luzern-e280769-20.html
END:VEVENT
END:VCALENDAR
