BEGIN:VCALENDAR
VERSION:2.0
PRODID:hinto.net
X-PUBLISHED-TTL:P1W
BEGIN:VEVENT
UID:hinto.net-event_show-4816424
DTSTART:20270829T100000
SEQUENCE:0
CREATED:20240829T045107
LAST-MODIFIED:20240829T045107
TRANSP:OPAQUE
DTEND:20270829T170000
LOCATION:Museum Luzern
SUMMARY:Blickwinkel-Kabinett
CLASS:PUBLIC
DESCRIPTION:
ORGANIZER:
DTSTAMP:20260421T091448
ATTACH:https://www.hinto.ch/de/events/blickwinkel-kabinett-29-08-2027-1000-museum-luzern-luzern-e280769-20.html
END:VEVENT
END:VCALENDAR
