BEGIN:VCALENDAR
VERSION:2.0
PRODID:hinto.net
X-PUBLISHED-TTL:P1W
BEGIN:VEVENT
UID:hinto.net-event_show-6915702
DTSTART:20260512T180000
SEQUENCE:0
CREATED:20260416T040927
LAST-MODIFIED:20260416T040927
TRANSP:OPAQUE
DTEND:20260512T220000
LOCATION:Samariterverein Bäretswil
SUMMARY:BLS-AED-SRC Komplett
CLASS:PUBLIC
DESCRIPTION:
ORGANIZER:
DTSTAMP:20260420T175451
ATTACH:https://www.hinto.ch/de/events/bls-aed-src-komplett-12-05-2026-1800-samariterverein-baeretswil-baeretswil-e2839236-20.html
END:VEVENT
END:VCALENDAR
