BEGIN:VCALENDAR
VERSION:2.0
PRODID:hinto.net
X-PUBLISHED-TTL:P1W
BEGIN:VEVENT
UID:hinto.net-event_show-6925685
DTSTART:20260516T090000
SEQUENCE:0
CREATED:20260419T052311
LAST-MODIFIED:20260419T052311
TRANSP:OPAQUE
DTEND:20260516T121500
LOCATION:Samariterverein Urdorf
SUMMARY:BLS-AED-SRC Komplett
CLASS:PUBLIC
DESCRIPTION:
ORGANIZER:
DTSTAMP:20260420T224630
ATTACH:https://www.hinto.ch/de/events/bls-aed-src-komplett-16-05-2026-0900-samariterverein-urdorf-urdorf-e2847638-20.html
END:VEVENT
END:VCALENDAR
