BEGIN:VCALENDAR
VERSION:2.0
PRODID:hinto.net
X-PUBLISHED-TTL:P1W
BEGIN:VEVENT
UID:hinto.net-event_show-6417657
DTSTART:20260623T193000
SEQUENCE:0
CREATED:20251106T031340
LAST-MODIFIED:20251106T031340
TRANSP:OPAQUE

LOCATION:Theater am Hechtplatz
SUMMARY:Bodo Wartke
CLASS:PUBLIC
DESCRIPTION:
ORGANIZER:
DTSTAMP:20260424T041546
ATTACH:https://www.hinto.ch/de/events/bodo-wartke-23-06-2026-1930-theater-am-hechtplatz-zuerich-e2420443-20.html
END:VEVENT
END:VCALENDAR
