BEGIN:VCALENDAR
VERSION:2.0
PRODID:hinto.net
X-PUBLISHED-TTL:P1W
BEGIN:VEVENT
UID:hinto.net-event_show-6667092
DTSTART:20260506T190000
SEQUENCE:0
CREATED:20260129T074353
LAST-MODIFIED:20260129T074353
TRANSP:OPAQUE
DTEND:20260506T000000
LOCATION:Kunsthaus Langenthal
SUMMARY:Book Launch & Kunstbar mit alfatih
CLASS:PUBLIC
DESCRIPTION:
ORGANIZER:
DTSTAMP:20260420T224655
ATTACH:https://www.hinto.ch/de/events/book-launch-kunstbar-mit-alfatih-06-05-2026-1900-kunsthaus-langenthal-langenthal-e2636776-20.html
END:VEVENT
END:VCALENDAR
