BEGIN:VCALENDAR
VERSION:2.0
PRODID:hinto.net
X-PUBLISHED-TTL:P1W
BEGIN:VEVENT
UID:hinto.net-event_show-6853767
DTSTART:20260417T000000
SEQUENCE:0
CREATED:20260326T193742
LAST-MODIFIED:20260326T193742
TRANSP:OPAQUE
DTEND:20260417T004500
LOCATION:
SUMMARY:BR: Bonusfamilie
CLASS:PUBLIC
DESCRIPTION:
ORGANIZER:
DTSTAMP:20260419T205056
ATTACH:https://www.hinto.ch/de/events/br-bonusfamilie-17-04-2026-0000-e2785646-20.html
END:VEVENT
END:VCALENDAR
