BEGIN:VCALENDAR
VERSION:2.0
PRODID:hinto.net
X-PUBLISHED-TTL:P1W
BEGIN:VEVENT
UID:hinto.net-event_show-6863705
DTSTART:20260419T164500
SEQUENCE:0
CREATED:20260329T155701
LAST-MODIFIED:20260329T155701
TRANSP:OPAQUE
DTEND:20260419T171500
LOCATION:
SUMMARY:BR: Landgasthäuser
CLASS:PUBLIC
DESCRIPTION:
ORGANIZER:
DTSTAMP:20260419T213138
ATTACH:https://www.hinto.ch/de/events/br-landgasthaeuser-19-04-2026-1645-e2794321-20.html
END:VEVENT
END:VCALENDAR
