BEGIN:VCALENDAR
VERSION:2.0
PRODID:hinto.net
X-PUBLISHED-TTL:P1W
BEGIN:VEVENT
UID:hinto.net-event_show-6925004
DTSTART:20260501T150000
SEQUENCE:0
CREATED:20260419T051941
LAST-MODIFIED:20260419T051941
TRANSP:OPAQUE
DTEND:20260501T173000
LOCATION:tiRumpel
SUMMARY:Buebe*treff
CLASS:PUBLIC
DESCRIPTION:
ORGANIZER:
DTSTAMP:20260421T072255
ATTACH:https://www.hinto.ch/de/events/buebetreff-01-05-2026-1500-tirumpel-st-gallen-e2847259-20.html
END:VEVENT
END:VCALENDAR
