BEGIN:VCALENDAR
VERSION:2.0
PRODID:hinto.net
X-PUBLISHED-TTL:P1W
BEGIN:VEVENT
UID:hinto.net-event_show-6925442
DTSTART:20260613T200000
SEQUENCE:0
CREATED:20260419T052224
LAST-MODIFIED:20260419T052224
TRANSP:OPAQUE

LOCATION:Casinotheater Winterthur
SUMMARY:Cedric Schild
CLASS:PUBLIC
DESCRIPTION:
ORGANIZER:
DTSTAMP:20260420T233608
ATTACH:https://www.hinto.ch/de/events/cedric-schild-13-06-2026-2000-casinotheater-winterthur-winterthur-e2847505-20.html
END:VEVENT
END:VCALENDAR
