BEGIN:VCALENDAR
VERSION:2.0
PRODID:hinto.net
X-PUBLISHED-TTL:P1W
BEGIN:VEVENT
UID:hinto.net-event_show-6762004
DTSTART:20260429T123000
SEQUENCE:0
CREATED:20260301T044821
LAST-MODIFIED:20260301T044821
TRANSP:OPAQUE
DTEND:20260429T130000
LOCATION:Fondation Beyeler
SUMMARY:Cezanne: Werkgespräch
CLASS:PUBLIC
DESCRIPTION:
ORGANIZER:
DTSTAMP:20260421T055445
ATTACH:https://www.hinto.ch/de/events/cezanne-werkgespraech-29-04-2026-1230-fondation-beyeler-riehen-e2600975-20.html
END:VEVENT
END:VCALENDAR
