BEGIN:VCALENDAR
VERSION:2.0
PRODID:hinto.net
X-PUBLISHED-TTL:P1W
BEGIN:VEVENT
UID:hinto.net-event_show-6289537
DTSTART:20260504T200000
SEQUENCE:0
CREATED:20250925T075910
LAST-MODIFIED:20250925T075910
TRANSP:OPAQUE
DTEND:20260504T221500
LOCATION:Würth Haus
SUMMARY:Christoph Maria Herbst & Moritz Netenjakob
CLASS:PUBLIC
DESCRIPTION:
ORGANIZER:
DTSTAMP:20260424T080620
ATTACH:https://www.hinto.ch/de/events/christoph-maria-herbst-moritz-netenjakob-04-05-2026-2000-wuerth-haus-rorschach-e2311453-20.html
END:VEVENT
END:VCALENDAR
