BEGIN:VCALENDAR
VERSION:2.0
PRODID:hinto.net
X-PUBLISHED-TTL:P1W
BEGIN:VEVENT
UID:hinto.net-event_show-6925713
DTSTART:20260424T203000
SEQUENCE:0
CREATED:20260419T052315
LAST-MODIFIED:20260419T052315
TRANSP:OPAQUE

LOCATION:Manoir de Martigny
SUMMARY:Ciné-Concert
CLASS:PUBLIC
DESCRIPTION:
ORGANIZER:
DTSTAMP:20260421T004230
ATTACH:https://www.hinto.ch/de/events/cine-concert-24-04-2026-2030-manoir-de-martigny-martigny-e2847654-20.html
END:VEVENT
END:VCALENDAR
