BEGIN:VCALENDAR
VERSION:2.0
PRODID:hinto.net
X-PUBLISHED-TTL:P1W
BEGIN:VEVENT
UID:hinto.net-event_show-6847184
DTSTART:20261121T133000
SEQUENCE:0
CREATED:20260324T123850
LAST-MODIFIED:20260324T123850
TRANSP:OPAQUE
DTEND:20261121T000000
LOCATION:Seepromenade
SUMMARY:Circus Knie
CLASS:PUBLIC
DESCRIPTION:
ORGANIZER:
DTSTAMP:20260420T170429
ATTACH:https://www.hinto.ch/de/events/circus-knie-21-11-2026-1330-seepromenade-zug-e2780269-20.html
END:VEVENT
END:VCALENDAR
