BEGIN:VCALENDAR
VERSION:2.0
PRODID:hinto.net
X-PUBLISHED-TTL:P1W
BEGIN:VEVENT
UID:hinto.net-event_show-6903844
DTSTART:20260501T200000
SEQUENCE:0
CREATED:20260411T114612
LAST-MODIFIED:20260411T114612
TRANSP:OPAQUE
DTEND:20260501T220000
LOCATION:INAC Gesellschaftsraum
SUMMARY:Colours
CLASS:PUBLIC
DESCRIPTION:
ORGANIZER:
DTSTAMP:20260420T194135
ATTACH:https://www.hinto.ch/de/events/colours-01-05-2026-2000-inac-gesellschaftsraum-berneck-e2829084-20.html
END:VEVENT
END:VCALENDAR
