BEGIN:VCALENDAR
VERSION:2.0
PRODID:hinto.net
X-PUBLISHED-TTL:P1W
BEGIN:VEVENT
UID:hinto.net-event_show-6924721
DTSTART:20260605T200000
SEQUENCE:0
CREATED:20260419T051723
LAST-MODIFIED:20260419T051723
TRANSP:OPAQUE
DTEND:20260605T220000
LOCATION:Auer & Co
SUMMARY:Comedy Kiss Showcases
CLASS:PUBLIC
DESCRIPTION:
ORGANIZER:
DTSTAMP:20260421T043223
ATTACH:https://www.hinto.ch/de/events/comedy-kiss-showcases-05-06-2026-2000-auer-co-zuerich-e2797142-20.html
END:VEVENT
END:VCALENDAR
