BEGIN:VCALENDAR
VERSION:2.0
PRODID:hinto.net
X-PUBLISHED-TTL:P1W
BEGIN:VEVENT
UID:hinto.net-event_show-6907123
DTSTART:20260424T190000
SEQUENCE:0
CREATED:20260413T063702
LAST-MODIFIED:20260413T063702
TRANSP:OPAQUE

LOCATION:Kulturfels La Caverna
SUMMARY:Das Boot
CLASS:PUBLIC
DESCRIPTION:
ORGANIZER:
DTSTAMP:20260419T213329
ATTACH:https://www.hinto.ch/de/events/das-boot-24-04-2026-1900-kulturfels-la-caverna-naters-e2831996-20.html
END:VEVENT
END:VCALENDAR
