BEGIN:VCALENDAR
VERSION:2.0
PRODID:hinto.net
X-PUBLISHED-TTL:P1W
BEGIN:VEVENT
UID:hinto.net-event_show-6903677
DTSTART:20260527T193000
SEQUENCE:0
CREATED:20260411T114109
LAST-MODIFIED:20260411T114109
TRANSP:OPAQUE
DTEND:20260527T213000
LOCATION:Druckereihalle (Ackermannshof)
SUMMARY:Denkpause
CLASS:PUBLIC
DESCRIPTION:
ORGANIZER:
DTSTAMP:20260424T045508
ATTACH:https://www.hinto.ch/de/events/denkpause-27-05-2026-1930-druckereihalle-(ackermannshof)-basel-e279500-20.html
END:VEVENT
END:VCALENDAR
