BEGIN:VCALENDAR
VERSION:2.0
PRODID:hinto.net
X-PUBLISHED-TTL:P1W
BEGIN:VEVENT
UID:hinto.net-event_show-6709852
DTSTART:20260301T113000
SEQUENCE:0
CREATED:20260212T185403
LAST-MODIFIED:20260212T185403
TRANSP:OPAQUE

LOCATION:Jüdisches Museum
SUMMARY:Die Morgenländer. Jüdische Forscher suchen nach dem Eigenen im Fremden
CLASS:PUBLIC
DESCRIPTION:
ORGANIZER:
DTSTAMP:20260421T065015
ATTACH:https://www.hinto.ch/de/events/die-morgenlaender-juedische-forscher-suchen-nach-dem-eigenen-im-fremden-01-03-2026-1130-juedisches-museum-hohenems-e2368397-20.html
END:VEVENT
END:VCALENDAR
