BEGIN:VCALENDAR
VERSION:2.0
PRODID:hinto.net
X-PUBLISHED-TTL:P1W
BEGIN:VEVENT
UID:hinto.net-event_show-6930540
DTSTART:20260601T160000
SEQUENCE:0
CREATED:20260421T030948
LAST-MODIFIED:20260421T030948
TRANSP:OPAQUE

LOCATION:Werk 1
SUMMARY:Disco 60plus
CLASS:PUBLIC
DESCRIPTION:
ORGANIZER:
DTSTAMP:20260421T165732
ATTACH:https://www.hinto.ch/de/events/disco-60plus-01-06-2026-1600-werk-1-gossau-sg-e2852014-20.html
END:VEVENT
END:VCALENDAR
