BEGIN:VCALENDAR
VERSION:2.0
PRODID:hinto.net
X-PUBLISHED-TTL:P1W
BEGIN:VEVENT
UID:hinto.net-event_show-6930539
DTSTART:20260504T160000
SEQUENCE:0
CREATED:20260421T030948
LAST-MODIFIED:20260421T030948
TRANSP:OPAQUE

LOCATION:Werk 1
SUMMARY:Disco 60plus
CLASS:PUBLIC
DESCRIPTION:
ORGANIZER:
DTSTAMP:20260421T090532
ATTACH:https://www.hinto.ch/de/events/disco-60plus-04-05-2026-1600-werk-1-gossau-sg-e2852014-20.html
END:VEVENT
END:VCALENDAR
