BEGIN:VCALENDAR
VERSION:2.0
PRODID:hinto.net
X-PUBLISHED-TTL:P1W
BEGIN:VEVENT
UID:hinto.net-event_show-6922501
DTSTART:20260419T191500
SEQUENCE:0
CREATED:20260418T114405
LAST-MODIFIED:20260418T114405
TRANSP:OPAQUE
DTEND:20260419T201500
LOCATION:
SUMMARY:DMAX: Trucking Hell
CLASS:PUBLIC
DESCRIPTION:
ORGANIZER:
DTSTAMP:20260420T044501
ATTACH:https://www.hinto.ch/de/events/dmax-trucking-hell-19-04-2026-1915-e2845028-20.html
END:VEVENT
END:VCALENDAR
