BEGIN:VCALENDAR
VERSION:2.0
PRODID:hinto.net
X-PUBLISHED-TTL:P1W
BEGIN:VEVENT
UID:hinto.net-event_show-6815158
DTSTART:20260611T180000
SEQUENCE:0
CREATED:20260314T140017
LAST-MODIFIED:20260314T140017
TRANSP:OPAQUE
DTEND:20260611T230000
LOCATION:Drehrestaurant Rondorama
SUMMARY:Donnerstagabend
CLASS:PUBLIC
DESCRIPTION:
ORGANIZER:
DTSTAMP:20260421T071544
ATTACH:https://www.hinto.ch/de/events/donnerstagabend-11-06-2026-1800-drehrestaurant-rondorama-stans-e2753223-20.html
END:VEVENT
END:VCALENDAR
