BEGIN:VCALENDAR
VERSION:2.0
PRODID:hinto.net
X-PUBLISHED-TTL:P1W
BEGIN:VEVENT
UID:hinto.net-event_show-6810575
DTSTART:20260502T203000
SEQUENCE:0
CREATED:20260313T035112
LAST-MODIFIED:20260313T035112
TRANSP:OPAQUE

LOCATION:Sternenkeller
SUMMARY:Duo Carouge
CLASS:PUBLIC
DESCRIPTION:
ORGANIZER:
DTSTAMP:20260420T174544
ATTACH:https://www.hinto.ch/de/events/duo-carouge-02-05-2026-2030-sternenkeller-rueti-zh-e2749788-20.html
END:VEVENT
END:VCALENDAR
