BEGIN:VCALENDAR
VERSION:2.0
PRODID:hinto.net
X-PUBLISHED-TTL:P1W
BEGIN:VEVENT
UID:hinto.net-event_show-6876443
DTSTART:20261204T110000
SEQUENCE:0
CREATED:20260402T093427
LAST-MODIFIED:20260402T093427
TRANSP:OPAQUE
DTEND:20261204T210000
LOCATION:Kloster Einsiedeln
SUMMARY:Einsiedler Weihnachtsmarkt
CLASS:PUBLIC
DESCRIPTION:
ORGANIZER:
DTSTAMP:20260424T035905
ATTACH:https://www.hinto.ch/de/events/einsiedler-weihnachtsmarkt-04-12-2026-1100-kloster-einsiedeln-einsiedeln-e1217921-20.html
END:VEVENT
END:VCALENDAR
