BEGIN:VCALENDAR
VERSION:2.0
PRODID:hinto.net
X-PUBLISHED-TTL:P1W
BEGIN:VEVENT
UID:hinto.net-event_show-6925080
DTSTART:20260427T200000
SEQUENCE:0
CREATED:20260419T051945
LAST-MODIFIED:20260419T051945
TRANSP:OPAQUE
DTEND:20260427T230000
LOCATION:INDUSTRIE36
SUMMARY:Emil Brandqvist Trio
CLASS:PUBLIC
DESCRIPTION:
ORGANIZER:
DTSTAMP:20260421T074015
ATTACH:https://www.hinto.ch/de/events/emil-brandqvist-trio-27-04-2026-2000-industrie36-rorschach-e2847274-20.html
END:VEVENT
END:VCALENDAR
