BEGIN:VCALENDAR
VERSION:2.0
PRODID:hinto.net
X-PUBLISHED-TTL:P1W
BEGIN:VEVENT
UID:hinto.net-event_show-6663602
DTSTART:20261018T170000
SEQUENCE:0
CREATED:20260127T202820
LAST-MODIFIED:20260127T202820
TRANSP:OPAQUE
DTEND:20261018T000000
LOCATION:Fauteuil
SUMMARY:Famiglia Dimitri mit - Cabaret Sorelle Forelle
CLASS:PUBLIC
DESCRIPTION:
ORGANIZER:
DTSTAMP:20260424T162651
ATTACH:https://www.hinto.ch/de/events/famiglia-dimitri-mit-cabaret-sorelle-forelle-18-10-2026-1700-fauteuil-basel-e2634022-20.html
END:VEVENT
END:VCALENDAR
