BEGIN:VCALENDAR
VERSION:2.0
PRODID:hinto.net
X-PUBLISHED-TTL:P1W
BEGIN:VEVENT
UID:hinto.net-event_show-6833684
DTSTART:20260425T140000
SEQUENCE:0
CREATED:20260320T071923
LAST-MODIFIED:20260320T071923
TRANSP:OPAQUE
DTEND:20260425T150000
LOCATION:Museum Tinguely
SUMMARY:Familienführung
CLASS:PUBLIC
DESCRIPTION:
ORGANIZER:
DTSTAMP:20260425T023955
ATTACH:https://www.hinto.ch/de/events/familienfuehrung-25-04-2026-1400-museum-tinguely-basel-e2768292-20.html
END:VEVENT
END:VCALENDAR
