BEGIN:VCALENDAR
VERSION:2.0
PRODID:hinto.net
X-PUBLISHED-TTL:P1W
BEGIN:VEVENT
UID:hinto.net-event_show-6925244
DTSTART:20260710T090000
SEQUENCE:0
CREATED:20260419T052103
LAST-MODIFIED:20260419T052103
TRANSP:OPAQUE
DTEND:20260710T160000
LOCATION:SO20
SUMMARY:Ferienpass: Zweitägiger DanceBot-Workshop
CLASS:PUBLIC
DESCRIPTION:
ORGANIZER:
DTSTAMP:20260421T040543
ATTACH:https://www.hinto.ch/de/events/ferienpass-zweitaegiger-dancebot-workshop-10-07-2026-0900-so20-zug-e2847359-20.html
END:VEVENT
END:VCALENDAR
