BEGIN:VCALENDAR
VERSION:2.0
PRODID:hinto.net
X-PUBLISHED-TTL:P1W
BEGIN:VEVENT
UID:hinto.net-event_show-6847634
DTSTART:20260502T193000
SEQUENCE:0
CREATED:20260325T015058
LAST-MODIFIED:20260325T015058
TRANSP:OPAQUE
DTEND:20260502T210000
LOCATION:Montforthaus Feldkirch
SUMMARY:FilMusic - Cinema Symphony
CLASS:PUBLIC
DESCRIPTION:
ORGANIZER:
DTSTAMP:20260424T091253
ATTACH:https://www.hinto.ch/de/events/filmusic-cinema-symphony-02-05-2026-1930-montforthaus-feldkirch-feldkirch-e2780359-20.html
END:VEVENT
END:VCALENDAR
