BEGIN:VCALENDAR
VERSION:2.0
PRODID:hinto.net
X-PUBLISHED-TTL:P1W
BEGIN:VEVENT
UID:hinto.net-event_show-6714658
DTSTART:20260607T170000
SEQUENCE:0
CREATED:20260214T041704
LAST-MODIFIED:20260214T041704
TRANSP:OPAQUE
DTEND:20260607T183000
LOCATION:Evang. Kirche Feld
SUMMARY:Fimmusik und Canzoni
CLASS:PUBLIC
DESCRIPTION:
ORGANIZER:
DTSTAMP:20260421T063819
ATTACH:https://www.hinto.ch/de/events/fimmusik-und-canzoni-07-06-2026-1700-evang-kirche-feld-flawil-e2679000-20.html
END:VEVENT
END:VCALENDAR
