BEGIN:VCALENDAR
VERSION:2.0
PRODID:hinto.net
X-PUBLISHED-TTL:P1W
BEGIN:VEVENT
UID:hinto.net-event_show-6893580
DTSTART:20260505T081500
SEQUENCE:0
CREATED:20260409T055700
LAST-MODIFIED:20260409T055700
TRANSP:OPAQUE
DTEND:20260505T164500
LOCATION:Samariterverein Münsingen
SUMMARY:First Aid Stufe 1 IVR + Refresher
CLASS:PUBLIC
DESCRIPTION:
ORGANIZER:
DTSTAMP:20260424T034315
ATTACH:https://www.hinto.ch/de/events/first-aid-stufe-1-ivr-+-refresher-05-05-2026-0815-samariterverein-muensingen-muensingen-e2817427-20.html
END:VEVENT
END:VCALENDAR
