BEGIN:VCALENDAR
VERSION:2.0
PRODID:hinto.net
X-PUBLISHED-TTL:P1W
BEGIN:VEVENT
UID:hinto.net-event_show-6833760
DTSTART:20260421T080000
SEQUENCE:0
CREATED:20260320T071940
LAST-MODIFIED:20260320T071940
TRANSP:OPAQUE
DTEND:20260421T160000
LOCATION:MTM Mutschellen
SUMMARY:First Aid Stufe 1 IVR + Refresher
CLASS:PUBLIC
DESCRIPTION:
ORGANIZER:
DTSTAMP:20260420T173430
ATTACH:https://www.hinto.ch/de/events/first-aid-stufe-1-ivr-+-refresher-21-04-2026-0800-mtm-mutschellen-berikon-e2768357-20.html
END:VEVENT
END:VCALENDAR
