BEGIN:VCALENDAR
VERSION:2.0
PRODID:hinto.net
X-PUBLISHED-TTL:P1W
BEGIN:VEVENT
UID:hinto.net-event_show-6817941
DTSTART:20260427T190000
SEQUENCE:0
CREATED:20260315T035230
LAST-MODIFIED:20260315T035230
TRANSP:OPAQUE

LOCATION:Vorarlberg Museum
SUMMARY:Franz Plunder: Bootsbauer, Bildhauer, Abenteurer
CLASS:PUBLIC
DESCRIPTION:
ORGANIZER:
DTSTAMP:20260421T041307
ATTACH:https://www.hinto.ch/de/events/franz-plunder-bootsbauer-bildhauer-abenteurer-27-04-2026-1900-vorarlberg-museum-bregenz-e2378734-20.html
END:VEVENT
END:VCALENDAR
