BEGIN:VCALENDAR
VERSION:2.0
PRODID:hinto.net
X-PUBLISHED-TTL:P1W
BEGIN:VEVENT
UID:hinto.net-event_show-6830269
DTSTART:20260704T120000
SEQUENCE:0
CREATED:20260319T030820
LAST-MODIFIED:20260319T030820
TRANSP:OPAQUE
DTEND:20260704T160000
LOCATION:Textilmuseum
SUMMARY:Frau Weber stickt
CLASS:PUBLIC
DESCRIPTION:
ORGANIZER:
DTSTAMP:20260420T073122
ATTACH:https://www.hinto.ch/de/events/frau-weber-stickt-04-07-2026-1200-textilmuseum-st-gallen-e2765569-20.html
END:VEVENT
END:VCALENDAR
