BEGIN:VCALENDAR
VERSION:2.0
PRODID:hinto.net
X-PUBLISHED-TTL:P1W
BEGIN:VEVENT
UID:hinto.net-event_show-6501454
DTSTART:20261202T200000
SEQUENCE:0
CREATED:20251204T202459
LAST-MODIFIED:20251204T202459
TRANSP:OPAQUE

LOCATION:Exil
SUMMARY:Frytz
CLASS:PUBLIC
DESCRIPTION:
ORGANIZER:
DTSTAMP:20260420T010739
ATTACH:https://www.hinto.ch/de/events/frytz-02-12-2026-2000-exil-zuerich-e2493999-20.html
END:VEVENT
END:VCALENDAR
