BEGIN:VCALENDAR
VERSION:2.0
PRODID:hinto.net
X-PUBLISHED-TTL:P1W
BEGIN:VEVENT
UID:hinto.net-event_show-6948288
DTSTART:20260626T103000
SEQUENCE:0
CREATED:20260424T100621
LAST-MODIFIED:20260424T100621
TRANSP:OPAQUE

LOCATION:Kurtheater
SUMMARY:Funkenflug 2026
CLASS:PUBLIC
DESCRIPTION:
ORGANIZER:
DTSTAMP:20260425T054846
ATTACH:https://www.hinto.ch/de/events/funkenflug-2026-26-06-2026-1030-kurtheater-baden-e2863229-20.html
END:VEVENT
END:VCALENDAR
