BEGIN:VCALENDAR
VERSION:2.0
PRODID:hinto.net
X-PUBLISHED-TTL:P1W
BEGIN:VEVENT
UID:hinto.net-event_show-6663770
DTSTART:20260429T203000
SEQUENCE:0
CREATED:20260128T032411
LAST-MODIFIED:20260128T032411
TRANSP:OPAQUE

LOCATION:Werk 1
SUMMARY:Funkollective
CLASS:PUBLIC
DESCRIPTION:
ORGANIZER:
DTSTAMP:20260420T021743
ATTACH:https://www.hinto.ch/de/events/funkollective-29-04-2026-2030-werk-1-gossau-sg-e2634091-20.html
END:VEVENT
END:VCALENDAR
