BEGIN:VCALENDAR
VERSION:2.0
PRODID:hinto.net
X-PUBLISHED-TTL:P1W
BEGIN:VEVENT
UID:hinto.net-event_show-6644301
DTSTART:20261126T200000
SEQUENCE:0
CREATED:20260121T085857
LAST-MODIFIED:20260121T085857
TRANSP:OPAQUE
DTEND:20261126T000000
LOCATION:Casino Herisau
SUMMARY:Gabirano - 2m10
CLASS:PUBLIC
DESCRIPTION:
ORGANIZER:
DTSTAMP:20260424T140114
ATTACH:https://www.hinto.ch/de/events/gabirano-2m10-26-11-2026-2000-casino-herisau-herisau-e2616838-20.html
END:VEVENT
END:VCALENDAR
