BEGIN:VCALENDAR
VERSION:2.0
PRODID:hinto.net
X-PUBLISHED-TTL:P1W
BEGIN:VEVENT
UID:hinto.net-event_show-6510609
DTSTART:20260511T100000
SEQUENCE:0
CREATED:20251208T024527
LAST-MODIFIED:20251208T024527
TRANSP:OPAQUE
DTEND:20260511T105000
LOCATION:TAK Theater Liechtenstein
SUMMARY:Ginger
CLASS:PUBLIC
DESCRIPTION:
ORGANIZER:
DTSTAMP:20260421T024815
ATTACH:https://www.hinto.ch/de/events/ginger-11-05-2026-1000-tak-theater-liechtenstein-schaan-e2501564-20.html
END:VEVENT
END:VCALENDAR
